BEGIN:VCALENDAR
VERSION:2.0
PRODID:-//RCORE - ECPv6.15.20//NONSGML v1.0//EN
CALSCALE:GREGORIAN
METHOD:PUBLISH
X-WR-CALNAME:RCORE
X-ORIGINAL-URL:https://rcore.org
X-WR-CALDESC:Events for RCORE
REFRESH-INTERVAL;VALUE=DURATION:PT1H
X-Robots-Tag:noindex
X-PUBLISHED-TTL:PT1H
BEGIN:VTIMEZONE
TZID:America/Los_Angeles
BEGIN:DAYLIGHT
TZOFFSETFROM:-0800
TZOFFSETTO:-0700
TZNAME:PDT
DTSTART:20250309T100000
END:DAYLIGHT
BEGIN:STANDARD
TZOFFSETFROM:-0700
TZOFFSETTO:-0800
TZNAME:PST
DTSTART:20251102T090000
END:STANDARD
BEGIN:DAYLIGHT
TZOFFSETFROM:-0800
TZOFFSETTO:-0700
TZNAME:PDT
DTSTART:20260308T100000
END:DAYLIGHT
BEGIN:STANDARD
TZOFFSETFROM:-0700
TZOFFSETTO:-0800
TZNAME:PST
DTSTART:20261101T090000
END:STANDARD
BEGIN:DAYLIGHT
TZOFFSETFROM:-0800
TZOFFSETTO:-0700
TZNAME:PDT
DTSTART:20270314T100000
END:DAYLIGHT
BEGIN:STANDARD
TZOFFSETFROM:-0700
TZOFFSETTO:-0800
TZNAME:PST
DTSTART:20271107T090000
END:STANDARD
END:VTIMEZONE
BEGIN:VEVENT
DTSTART;TZID=America/Los_Angeles:20261008T133000
DTEND;TZID=America/Los_Angeles:20261008T150000
DTSTAMP:20260422T031756
CREATED:20190709T025422Z
LAST-MODIFIED:20260316T140527Z
UID:981-1791466200-1791471600@rcore.org
SUMMARY:RCORE General Membership Meeting
DESCRIPTION:RCORE GENERAL MEMBERSHIP MEETING \nOne of two annual General Membership meetings help to connect with other Roseville retirees and to share information that may be impacting our retiree base.  The Board works to have a speaker present information of a Roseville centric issue that is in the forefront of efforts being addressed. \nDues for 2027 can be paid at the meeting. \nAs always\, it is fun and informative to get together\, we hope to see you there!
URL:https://rcore.org/event/rcore-general-membership-meeting/
LOCATION:Legends and Hero’s\, 5880 Woodcreek Oak Blvd\, Roseville\, CA\, 95747\, United States
END:VEVENT
END:VCALENDAR